BEGIN:VCALENDAR
VERSION:2.0
PRODID:-//Chinese American Nurses Association - ECPv5.7.0//NONSGML v1.0//EN
CALSCALE:GREGORIAN
METHOD:PUBLISH
X-WR-CALNAME:Chinese American Nurses Association
X-ORIGINAL-URL:https://www.cana-usa.org
X-WR-CALDESC:Events for Chinese American Nurses Association
BEGIN:VTIMEZONE
TZID:America/New_York
BEGIN:DAYLIGHT
TZOFFSETFROM:-0500
TZOFFSETTO:-0400
TZNAME:EDT
DTSTART:20190310T070000
END:DAYLIGHT
BEGIN:STANDARD
TZOFFSETFROM:-0400
TZOFFSETTO:-0500
TZNAME:EST
DTSTART:20191103T060000
END:STANDARD
END:VTIMEZONE
BEGIN:VEVENT
DTSTART;TZID=America/New_York:20190119T110000
DTEND;TZID=America/New_York:20190119T150000
DTSTAMP:20260421T092942
CREATED:20181225T021331Z
LAST-MODIFIED:20181225T021331Z
UID:1721-1547895600-1547910000@www.cana-usa.org
SUMMARY:Chinese New Year 2019 Luncheon
DESCRIPTION:Loading...\n						\n					\n					\n						\n							\n							Taking too long?\n						\n						\n							\n								 Reload document							\n							|\n							\n								 Open in new tab
URL:https://www.cana-usa.org/event/chinese-new-year-2019-luncheon/
LOCATION:Mudan Banquet Hall\, 136-17 39th Ave\, 2nd Floor\, Flushing\, NY\, 11354\, United States
CATEGORIES:CANA Event
END:VEVENT
END:VCALENDAR