BEGIN:VCALENDAR
VERSION:2.0
PRODID:-//Chinese American Nurses Association - ECPv5.7.0//NONSGML v1.0//EN
CALSCALE:GREGORIAN
METHOD:PUBLISH
X-WR-CALNAME:Chinese American Nurses Association
X-ORIGINAL-URL:https://www.cana-usa.org
X-WR-CALDESC:Events for Chinese American Nurses Association
BEGIN:VTIMEZONE
TZID:America/New_York
BEGIN:DAYLIGHT
TZOFFSETFROM:-0500
TZOFFSETTO:-0400
TZNAME:EDT
DTSTART:20190310T070000
END:DAYLIGHT
BEGIN:STANDARD
TZOFFSETFROM:-0400
TZOFFSETTO:-0500
TZNAME:EST
DTSTART:20191103T060000
END:STANDARD
END:VTIMEZONE
BEGIN:VEVENT
DTSTART;TZID=America/New_York:20190317T180000
DTEND;TZID=America/New_York:20190317T230000
DTSTAMP:20260421T092701
CREATED:20190309T195228Z
LAST-MODIFIED:20190309T195228Z
UID:1778-1552845600-1552863600@www.cana-usa.org
SUMMARY:CANA's 21th Annual Gala Party
DESCRIPTION:The Gala is one of our organization’s major fundraising and networking events\, which helps support our mission to promote health awareness in the Chinese community. \nSave this event on your calendar for your Annual Gala! See everyone there! \nCANA's 21th Annual Gala Party
URL:https://www.cana-usa.org/event/canas-21th-annual-gala-party/
LOCATION:Mudan Banquet Hall\, 136-17 39th Ave\, 2nd Fl\, Flushing\, NY\, 11354\, United States
CATEGORIES:CANA Event
END:VEVENT
END:VCALENDAR