BEGIN:VCALENDAR
VERSION:2.0
PRODID:-//Chinese American Nurses Association - ECPv5.7.0//NONSGML v1.0//EN
CALSCALE:GREGORIAN
METHOD:PUBLISH
X-WR-CALNAME:Chinese American Nurses Association
X-ORIGINAL-URL:https://www.cana-usa.org
X-WR-CALDESC:Events for Chinese American Nurses Association
BEGIN:VTIMEZONE
TZID:America/New_York
BEGIN:DAYLIGHT
TZOFFSETFROM:-0500
TZOFFSETTO:-0400
TZNAME:EDT
DTSTART:20170312T070000
END:DAYLIGHT
BEGIN:STANDARD
TZOFFSETFROM:-0400
TZOFFSETTO:-0500
TZNAME:EST
DTSTART:20171105T060000
END:STANDARD
END:VTIMEZONE
BEGIN:VEVENT
DTSTART;TZID=America/New_York:20170517T180000
DTEND;TZID=America/New_York:20170517T200000
DTSTAMP:20260421T174118
CREATED:20170418T011145Z
LAST-MODIFIED:20170418T011145Z
UID:1086-1495044000-1495051200@www.cana-usa.org
SUMMARY:Breast Interventions: Imaging Guided Biopsies - CME credited dinner hosted by Main Street Radiology
DESCRIPTION:Loading...\n						\n					\n					\n						\n							\n							Taking too long?\n						\n						\n							\n								 Reload document							\n							|\n							\n								 Open in new tab
URL:https://www.cana-usa.org/event/breast-interventions-imaging-guided-biopsies-cme-credited-dinner-hosted-by-main-street-radiology/
LOCATION:Union Prime Steak and Sushi\, 661 Northern Boulevard\, Great Neck\, NY\, 11021\, United States
CATEGORIES:Conference/Professional Event
ORGANIZER;CN="Main%20Street%20Radiology":MAILTO:aprendergast@msrad.com
END:VEVENT
END:VCALENDAR