BEGIN:VCALENDAR
VERSION:2.0
PRODID:-//Chinese American Nurses Association - ECPv5.7.0//NONSGML v1.0//EN
CALSCALE:GREGORIAN
METHOD:PUBLISH
X-WR-CALNAME:Chinese American Nurses Association
X-ORIGINAL-URL:https://www.cana-usa.org
X-WR-CALDESC:Events for Chinese American Nurses Association
BEGIN:VTIMEZONE
TZID:America/New_York
BEGIN:DAYLIGHT
TZOFFSETFROM:-0500
TZOFFSETTO:-0400
TZNAME:EDT
DTSTART:20170312T070000
END:DAYLIGHT
BEGIN:STANDARD
TZOFFSETFROM:-0400
TZOFFSETTO:-0500
TZNAME:EST
DTSTART:20171105T060000
END:STANDARD
END:VTIMEZONE
BEGIN:VEVENT
DTSTART;TZID=America/New_York:20170920T090000
DTEND;TZID=America/New_York:20170920T140000
DTSTAMP:20260421T111236
CREATED:20170709T155852Z
LAST-MODIFIED:20170709T155852Z
UID:1308-1505898000-1505916000@www.cana-usa.org
SUMMARY:21st Annual Senior Health Fair
DESCRIPTION:CANA will be participating at this event! Come by and support this event! CANA volunteers interested please reach out to us at cananursing1997@gmail.com.  \n  \n			\n				\n					\n						\n							\n							Loading...\n						\n					\n					\n						\n							\n							Taking too long?\n						\n						\n							\n								 Reload document							\n							|\n							\n								 Open in new tab
URL:https://www.cana-usa.org/event/21st-annual-senior-health-fair/
LOCATION:Homecrest Community Services\, 1413 Avenue T\, Brooklyn\, New York\, 11229
CATEGORIES:Volunteer Event
END:VEVENT
END:VCALENDAR